BEGIN:VCALENDAR
VERSION:2.0
PRODID:-//Village of Virginia Gardens - ECPv6.15.13//NONSGML v1.0//EN
CALSCALE:GREGORIAN
METHOD:PUBLISH
X-WR-CALNAME:Village of Virginia Gardens
X-ORIGINAL-URL:https://virginiagardens-fl.gov
X-WR-CALDESC:Events for Village of Virginia Gardens
REFRESH-INTERVAL;VALUE=DURATION:PT1H
X-Robots-Tag:noindex
X-PUBLISHED-TTL:PT1H
BEGIN:VTIMEZONE
TZID:America/New_York
BEGIN:DAYLIGHT
TZOFFSETFROM:-0500
TZOFFSETTO:-0400
TZNAME:EDT
DTSTART:20250309T070000
END:DAYLIGHT
BEGIN:STANDARD
TZOFFSETFROM:-0400
TZOFFSETTO:-0500
TZNAME:EST
DTSTART:20251102T060000
END:STANDARD
BEGIN:DAYLIGHT
TZOFFSETFROM:-0500
TZOFFSETTO:-0400
TZNAME:EDT
DTSTART:20260308T070000
END:DAYLIGHT
BEGIN:STANDARD
TZOFFSETFROM:-0400
TZOFFSETTO:-0500
TZNAME:EST
DTSTART:20261101T060000
END:STANDARD
BEGIN:DAYLIGHT
TZOFFSETFROM:-0500
TZOFFSETTO:-0400
TZNAME:EDT
DTSTART:20270314T070000
END:DAYLIGHT
BEGIN:STANDARD
TZOFFSETFROM:-0400
TZOFFSETTO:-0500
TZNAME:EST
DTSTART:20271107T060000
END:STANDARD
END:VTIMEZONE
BEGIN:VEVENT
DTSTART;VALUE=DATE:20260303
DTEND;VALUE=DATE:20260304
DTSTAMP:20260422T223137
CREATED:20260129T221030Z
LAST-MODIFIED:20260129T221030Z
UID:4367-1772496000-1772582399@virginiagardens-fl.gov
SUMMARY:Regular Recycling Pick-up
DESCRIPTION:
URL:https://virginiagardens-fl.gov/event/regular-recycling-pick-up-31/
END:VEVENT
BEGIN:VEVENT
DTSTART;VALUE=DATE:20260303
DTEND;VALUE=DATE:20260304
DTSTAMP:20260422T223137
CREATED:20260129T224034Z
LAST-MODIFIED:20260129T224034Z
UID:4429-1772496000-1772582399@virginiagardens-fl.gov
SUMMARY:Regular Weekly Garbage Pick-up
DESCRIPTION:
URL:https://virginiagardens-fl.gov/event/regular-weekly-garbage-pick-up-196/
END:VEVENT
BEGIN:VEVENT
DTSTART;VALUE=DATE:20260306
DTEND;VALUE=DATE:20260307
DTSTAMP:20260422T223137
CREATED:20260129T224057Z
LAST-MODIFIED:20260129T224057Z
UID:4431-1772755200-1772841599@virginiagardens-fl.gov
SUMMARY:Regular Weekly Garbage Pick-up
DESCRIPTION:
URL:https://virginiagardens-fl.gov/event/regular-weekly-garbage-pick-up-197/
END:VEVENT
BEGIN:VEVENT
DTSTART;VALUE=DATE:20260310
DTEND;VALUE=DATE:20260311
DTSTAMP:20260422T223137
CREATED:20260129T224116Z
LAST-MODIFIED:20260129T224116Z
UID:4433-1773100800-1773187199@virginiagardens-fl.gov
SUMMARY:Regular Weekly Garbage Pick-up
DESCRIPTION:
URL:https://virginiagardens-fl.gov/event/regular-weekly-garbage-pick-up-198/
END:VEVENT
BEGIN:VEVENT
DTSTART;VALUE=DATE:20260317
DTEND;VALUE=DATE:20260318
DTSTAMP:20260422T223137
CREATED:20260129T221100Z
LAST-MODIFIED:20260129T221100Z
UID:4369-1773705600-1773791999@virginiagardens-fl.gov
SUMMARY:Regular Recycling Pick-up
DESCRIPTION:
URL:https://virginiagardens-fl.gov/event/regular-recycling-pick-up-32/
END:VEVENT
BEGIN:VEVENT
DTSTART;VALUE=DATE:20260317
DTEND;VALUE=DATE:20260318
DTSTAMP:20260422T223137
CREATED:20260129T224206Z
LAST-MODIFIED:20260129T224206Z
UID:4437-1773705600-1773791999@virginiagardens-fl.gov
SUMMARY:Regular Weekly Garbage Pick-up
DESCRIPTION:
URL:https://virginiagardens-fl.gov/event/regular-weekly-garbage-pick-up-200/
END:VEVENT
BEGIN:VEVENT
DTSTART;TZID=America/New_York:20260319T183000
DTEND;TZID=America/New_York:20260319T193000
DTSTAMP:20260422T223137
CREATED:20260317T203917Z
LAST-MODIFIED:20260317T203917Z
UID:4488-1773945000-1773948600@virginiagardens-fl.gov
SUMMARY:Council Meeting 3/19/2026
DESCRIPTION:
URL:https://virginiagardens-fl.gov/event/council-meeting-3-19-2026/
END:VEVENT
BEGIN:VEVENT
DTSTART;VALUE=DATE:20260320
DTEND;VALUE=DATE:20260321
DTSTAMP:20260422T223137
CREATED:20260129T224224Z
LAST-MODIFIED:20260129T224224Z
UID:4439-1773964800-1774051199@virginiagardens-fl.gov
SUMMARY:Regular Weekly Garbage Pick-up
DESCRIPTION:
URL:https://virginiagardens-fl.gov/event/regular-weekly-garbage-pick-up-201/
END:VEVENT
BEGIN:VEVENT
DTSTART;VALUE=DATE:20260324
DTEND;VALUE=DATE:20260325
DTSTAMP:20260422T223137
CREATED:20260129T224252Z
LAST-MODIFIED:20260129T224252Z
UID:4441-1774310400-1774396799@virginiagardens-fl.gov
SUMMARY:Regular Weekly Garbage Pick-up
DESCRIPTION:
URL:https://virginiagardens-fl.gov/event/regular-weekly-garbage-pick-up-202/
END:VEVENT
BEGIN:VEVENT
DTSTART;VALUE=DATE:20260327
DTEND;VALUE=DATE:20260328
DTSTAMP:20260422T223137
CREATED:20260129T224319Z
LAST-MODIFIED:20260129T224319Z
UID:4443-1774569600-1774655999@virginiagardens-fl.gov
SUMMARY:Regular Weekly Garbage Pick-up
DESCRIPTION:
URL:https://virginiagardens-fl.gov/event/regular-weekly-garbage-pick-up-203/
END:VEVENT
BEGIN:VEVENT
DTSTART;VALUE=DATE:20260331
DTEND;VALUE=DATE:20260401
DTSTAMP:20260422T223137
CREATED:20260129T221125Z
LAST-MODIFIED:20260129T221125Z
UID:4371-1774915200-1775001599@virginiagardens-fl.gov
SUMMARY:Regular Recycling Pick-up
DESCRIPTION:
URL:https://virginiagardens-fl.gov/event/regular-recycling-pick-up-33/
END:VEVENT
BEGIN:VEVENT
DTSTART;VALUE=DATE:20260331
DTEND;VALUE=DATE:20260401
DTSTAMP:20260422T223137
CREATED:20260129T224341Z
LAST-MODIFIED:20260129T224341Z
UID:4445-1774915200-1775001599@virginiagardens-fl.gov
SUMMARY:Regular Weekly Garbage Pick-up
DESCRIPTION:
URL:https://virginiagardens-fl.gov/event/regular-weekly-garbage-pick-up-204/
END:VEVENT
END:VCALENDAR