BEGIN:VCALENDAR
VERSION:2.0
PRODID:-//Village of Virginia Gardens - ECPv6.15.13//NONSGML v1.0//EN
CALSCALE:GREGORIAN
METHOD:PUBLISH
X-ORIGINAL-URL:https://virginiagardens-fl.gov
X-WR-CALDESC:Events for Village of Virginia Gardens
REFRESH-INTERVAL;VALUE=DURATION:PT1H
X-Robots-Tag:noindex
X-PUBLISHED-TTL:PT1H
BEGIN:VTIMEZONE
TZID:America/New_York
BEGIN:DAYLIGHT
TZOFFSETFROM:-0500
TZOFFSETTO:-0400
TZNAME:EDT
DTSTART:20250309T070000
END:DAYLIGHT
BEGIN:STANDARD
TZOFFSETFROM:-0400
TZOFFSETTO:-0500
TZNAME:EST
DTSTART:20251102T060000
END:STANDARD
BEGIN:DAYLIGHT
TZOFFSETFROM:-0500
TZOFFSETTO:-0400
TZNAME:EDT
DTSTART:20260308T070000
END:DAYLIGHT
BEGIN:STANDARD
TZOFFSETFROM:-0400
TZOFFSETTO:-0500
TZNAME:EST
DTSTART:20261101T060000
END:STANDARD
BEGIN:DAYLIGHT
TZOFFSETFROM:-0500
TZOFFSETTO:-0400
TZNAME:EDT
DTSTART:20270314T070000
END:DAYLIGHT
BEGIN:STANDARD
TZOFFSETFROM:-0400
TZOFFSETTO:-0500
TZNAME:EST
DTSTART:20271107T060000
END:STANDARD
END:VTIMEZONE
BEGIN:VEVENT
DTSTART;TZID=America/New_York:20260115T183000
DTEND;TZID=America/New_York:20260115T193000
DTSTAMP:20260422T192856
CREATED:20260108T164845Z
LAST-MODIFIED:20260108T165829Z
UID:4318-1768501800-1768505400@virginiagardens-fl.gov
SUMMARY:Council Meeting 1/15/2026
DESCRIPTION:
URL:https://virginiagardens-fl.gov/event/council-meeting-1-15-2026/
END:VEVENT
BEGIN:VEVENT
DTSTART;VALUE=DATE:20260120
DTEND;VALUE=DATE:20260121
DTSTAMP:20260422T192856
CREATED:20251113T172515Z
LAST-MODIFIED:20251113T172526Z
UID:4291-1768867200-1768953599@virginiagardens-fl.gov
SUMMARY:BULK TRASH PICK-UP TUESDAY 1/20/26
DESCRIPTION:
URL:https://virginiagardens-fl.gov/event/bulk-trash-pick-up-tuesday-1-20-26/
END:VEVENT
BEGIN:VEVENT
DTSTART;TZID=America/New_York:20260126T170000
DTEND;TZID=America/New_York:20260126T173000
DTSTAMP:20260422T192856
CREATED:20260123T215235Z
LAST-MODIFIED:20260123T215453Z
UID:4338-1769446800-1769448600@virginiagardens-fl.gov
SUMMARY:Attorney-Client Executive Meeting 01/26/2026
DESCRIPTION:
URL:https://virginiagardens-fl.gov/event/attorney-client-executive-meeting-01-26-2026/
END:VEVENT
BEGIN:VEVENT
DTSTART;TZID=America/New_York:20260126T173000
DTEND;TZID=America/New_York:20260126T180000
DTSTAMP:20260422T192856
CREATED:20260123T215410Z
LAST-MODIFIED:20260123T215410Z
UID:4340-1769448600-1769450400@virginiagardens-fl.gov
SUMMARY:Special Council Meeting 01/26/2026
DESCRIPTION:
URL:https://virginiagardens-fl.gov/event/special-council-meeting-01-26-2026/
END:VEVENT
BEGIN:VEVENT
DTSTART;VALUE=DATE:20260130
DTEND;VALUE=DATE:20260131
DTSTAMP:20260422T192856
CREATED:20260129T223704Z
LAST-MODIFIED:20260129T223704Z
UID:4411-1769731200-1769817599@virginiagardens-fl.gov
SUMMARY:Regular Weekly Garbage Pick-up
DESCRIPTION:
URL:https://virginiagardens-fl.gov/event/regular-weekly-garbage-pick-up-187/
END:VEVENT
END:VCALENDAR