BEGIN:VCALENDAR
VERSION:2.0
PRODID:-//Village of Virginia Gardens - ECPv6.15.13//NONSGML v1.0//EN
CALSCALE:GREGORIAN
METHOD:PUBLISH
X-ORIGINAL-URL:https://virginiagardens-fl.gov
X-WR-CALDESC:Events for Village of Virginia Gardens
REFRESH-INTERVAL;VALUE=DURATION:PT1H
X-Robots-Tag:noindex
X-PUBLISHED-TTL:PT1H
BEGIN:VTIMEZONE
TZID:America/New_York
BEGIN:DAYLIGHT
TZOFFSETFROM:-0500
TZOFFSETTO:-0400
TZNAME:EDT
DTSTART:20240310T070000
END:DAYLIGHT
BEGIN:STANDARD
TZOFFSETFROM:-0400
TZOFFSETTO:-0500
TZNAME:EST
DTSTART:20241103T060000
END:STANDARD
BEGIN:DAYLIGHT
TZOFFSETFROM:-0500
TZOFFSETTO:-0400
TZNAME:EDT
DTSTART:20250309T070000
END:DAYLIGHT
BEGIN:STANDARD
TZOFFSETFROM:-0400
TZOFFSETTO:-0500
TZNAME:EST
DTSTART:20251102T060000
END:STANDARD
BEGIN:DAYLIGHT
TZOFFSETFROM:-0500
TZOFFSETTO:-0400
TZNAME:EDT
DTSTART:20260308T070000
END:DAYLIGHT
BEGIN:STANDARD
TZOFFSETFROM:-0400
TZOFFSETTO:-0500
TZNAME:EST
DTSTART:20261101T060000
END:STANDARD
END:VTIMEZONE
BEGIN:VEVENT
DTSTART;VALUE=DATE:20250401
DTEND;VALUE=DATE:20250402
DTSTAMP:20260422T073344
CREATED:20250303T155837Z
LAST-MODIFIED:20250303T155837Z
UID:4041-1743465600-1743551999@virginiagardens-fl.gov
SUMMARY:Regular Weekly Garbage Pick-up
DESCRIPTION:
URL:https://virginiagardens-fl.gov/event/regular-weekly-garbage-pick-up-169/
END:VEVENT
BEGIN:VEVENT
DTSTART;VALUE=DATE:20250401
DTEND;VALUE=DATE:20250402
DTSTAMP:20260422T073344
CREATED:20250303T160123Z
LAST-MODIFIED:20250403T130622Z
UID:4049-1743465600-1743551999@virginiagardens-fl.gov
SUMMARY:BULK TRASH PICK UP TUESDAY 04/01/2025
DESCRIPTION:
URL:https://virginiagardens-fl.gov/event/regular-weekly-garbage-pick-up-173/
END:VEVENT
BEGIN:VEVENT
DTSTART;VALUE=DATE:20250404
DTEND;VALUE=DATE:20250405
DTSTAMP:20260422T073344
CREATED:20250303T155856Z
LAST-MODIFIED:20250303T155856Z
UID:4043-1743724800-1743811199@virginiagardens-fl.gov
SUMMARY:Regular Weekly Garbage Pick-up
DESCRIPTION:
URL:https://virginiagardens-fl.gov/event/regular-weekly-garbage-pick-up-170/
END:VEVENT
BEGIN:VEVENT
DTSTART;VALUE=DATE:20250408
DTEND;VALUE=DATE:20250409
DTSTAMP:20260422T073344
CREATED:20250303T155913Z
LAST-MODIFIED:20250303T160028Z
UID:4045-1744070400-1744156799@virginiagardens-fl.gov
SUMMARY:Regular Weekly Garbage Pick-up
DESCRIPTION:
URL:https://virginiagardens-fl.gov/event/regular-weekly-garbage-pick-up-171/
END:VEVENT
BEGIN:VEVENT
DTSTART;VALUE=DATE:20250408
DTEND;VALUE=DATE:20250409
DTSTAMP:20260422T073344
CREATED:20250303T160344Z
LAST-MODIFIED:20250303T160344Z
UID:4059-1744070400-1744156799@virginiagardens-fl.gov
SUMMARY:Regular Recycling Pick-up
DESCRIPTION:
URL:https://virginiagardens-fl.gov/event/regular-recycling-pick-up-8/
END:VEVENT
BEGIN:VEVENT
DTSTART;VALUE=DATE:20250411
DTEND;VALUE=DATE:20250412
DTSTAMP:20260422T073344
CREATED:20250303T155932Z
LAST-MODIFIED:20250303T155945Z
UID:4047-1744329600-1744415999@virginiagardens-fl.gov
SUMMARY:Regular Weekly Garbage Pick-up
DESCRIPTION:
URL:https://virginiagardens-fl.gov/event/regular-weekly-garbage-pick-up-172/
END:VEVENT
BEGIN:VEVENT
DTSTART;TZID=America/New_York:20250417T183000
DTEND;TZID=America/New_York:20250417T190000
DTSTAMP:20260422T073344
CREATED:20250417T145442Z
LAST-MODIFIED:20250417T145442Z
UID:4150-1744914600-1744916400@virginiagardens-fl.gov
SUMMARY:Council Meeting 04/17/2025
DESCRIPTION:
URL:https://virginiagardens-fl.gov/event/council-meeting-04-17-2025/
END:VEVENT
BEGIN:VEVENT
DTSTART;VALUE=DATE:20250418
DTEND;VALUE=DATE:20250419
DTSTAMP:20260422T073344
CREATED:20250303T160139Z
LAST-MODIFIED:20250303T160139Z
UID:4051-1744934400-1745020799@virginiagardens-fl.gov
SUMMARY:Regular Weekly Garbage Pick-up
DESCRIPTION:
URL:https://virginiagardens-fl.gov/event/regular-weekly-garbage-pick-up-174/
END:VEVENT
BEGIN:VEVENT
DTSTART;VALUE=DATE:20250422
DTEND;VALUE=DATE:20250423
DTSTAMP:20260422T073344
CREATED:20250303T160207Z
LAST-MODIFIED:20250303T160207Z
UID:4053-1745280000-1745366399@virginiagardens-fl.gov
SUMMARY:Regular Weekly Garbage Pick-up
DESCRIPTION:
URL:https://virginiagardens-fl.gov/event/regular-weekly-garbage-pick-up-175/
END:VEVENT
BEGIN:VEVENT
DTSTART;VALUE=DATE:20250422
DTEND;VALUE=DATE:20250423
DTSTAMP:20260422T073344
CREATED:20250303T160403Z
LAST-MODIFIED:20250303T160403Z
UID:4061-1745280000-1745366399@virginiagardens-fl.gov
SUMMARY:Regular Recycling Pick-up
DESCRIPTION:
URL:https://virginiagardens-fl.gov/event/regular-recycling-pick-up-9/
END:VEVENT
BEGIN:VEVENT
DTSTART;VALUE=DATE:20250425
DTEND;VALUE=DATE:20250426
DTSTAMP:20260422T073344
CREATED:20250303T160230Z
LAST-MODIFIED:20250303T160230Z
UID:4055-1745539200-1745625599@virginiagardens-fl.gov
SUMMARY:Regular Weekly Garbage Pick-up
DESCRIPTION:
URL:https://virginiagardens-fl.gov/event/regular-weekly-garbage-pick-up-176/
END:VEVENT
BEGIN:VEVENT
DTSTART;VALUE=DATE:20250429
DTEND;VALUE=DATE:20250430
DTSTAMP:20260422T073344
CREATED:20250303T160247Z
LAST-MODIFIED:20250303T160247Z
UID:4057-1745884800-1745971199@virginiagardens-fl.gov
SUMMARY:Regular Weekly Garbage Pick-up
DESCRIPTION:
URL:https://virginiagardens-fl.gov/event/regular-weekly-garbage-pick-up-177/
END:VEVENT
BEGIN:VEVENT
DTSTART;TZID=America/New_York:20250429T080000
DTEND;TZID=America/New_York:20250429T170000
DTSTAMP:20260422T073344
CREATED:20250423T192814Z
LAST-MODIFIED:20250423T192815Z
UID:4158-1745913600-1745946000@virginiagardens-fl.gov
SUMMARY:Regular Recycling Pick-up
DESCRIPTION:
URL:https://virginiagardens-fl.gov/event/regular-recycling-pick-up-28/
END:VEVENT
END:VCALENDAR