BEGIN:VCALENDAR
VERSION:2.0
PRODID:-//Village of Virginia Gardens - ECPv6.15.13//NONSGML v1.0//EN
CALSCALE:GREGORIAN
METHOD:PUBLISH
X-ORIGINAL-URL:https://virginiagardens-fl.gov
X-WR-CALDESC:Events for Village of Virginia Gardens
REFRESH-INTERVAL;VALUE=DURATION:PT1H
X-Robots-Tag:noindex
X-PUBLISHED-TTL:PT1H
BEGIN:VTIMEZONE
TZID:America/New_York
BEGIN:DAYLIGHT
TZOFFSETFROM:-0500
TZOFFSETTO:-0400
TZNAME:EDT
DTSTART:20240310T070000
END:DAYLIGHT
BEGIN:STANDARD
TZOFFSETFROM:-0400
TZOFFSETTO:-0500
TZNAME:EST
DTSTART:20241103T060000
END:STANDARD
BEGIN:DAYLIGHT
TZOFFSETFROM:-0500
TZOFFSETTO:-0400
TZNAME:EDT
DTSTART:20250309T070000
END:DAYLIGHT
BEGIN:STANDARD
TZOFFSETFROM:-0400
TZOFFSETTO:-0500
TZNAME:EST
DTSTART:20251102T060000
END:STANDARD
BEGIN:DAYLIGHT
TZOFFSETFROM:-0500
TZOFFSETTO:-0400
TZNAME:EDT
DTSTART:20260308T070000
END:DAYLIGHT
BEGIN:STANDARD
TZOFFSETFROM:-0400
TZOFFSETTO:-0500
TZNAME:EST
DTSTART:20261101T060000
END:STANDARD
END:VTIMEZONE
BEGIN:VEVENT
DTSTART;VALUE=DATE:20250204
DTEND;VALUE=DATE:20250205
DTSTAMP:20260422T102945
CREATED:20250102T204509Z
LAST-MODIFIED:20250102T204509Z
UID:3964-1738627200-1738713599@virginiagardens-fl.gov
SUMMARY:Regular Weekly Garbage Pick-up
DESCRIPTION:
URL:https://virginiagardens-fl.gov/event/regular-weekly-garbage-pick-up-153/
END:VEVENT
BEGIN:VEVENT
DTSTART;VALUE=DATE:20250204
DTEND;VALUE=DATE:20250205
DTSTAMP:20260422T102945
CREATED:20250102T205145Z
LAST-MODIFIED:20250102T205145Z
UID:3980-1738627200-1738713599@virginiagardens-fl.gov
SUMMARY:Regular Recycling Pick-up
DESCRIPTION:
URL:https://virginiagardens-fl.gov/event/regular-recycling-pick-up-4/
END:VEVENT
BEGIN:VEVENT
DTSTART;VALUE=DATE:20250207
DTEND;VALUE=DATE:20250208
DTSTAMP:20260422T102945
CREATED:20250102T204530Z
LAST-MODIFIED:20250102T204530Z
UID:3966-1738886400-1738972799@virginiagardens-fl.gov
SUMMARY:Regular Weekly Garbage Pick-up
DESCRIPTION:
URL:https://virginiagardens-fl.gov/event/regular-weekly-garbage-pick-up-154/
END:VEVENT
BEGIN:VEVENT
DTSTART;VALUE=DATE:20250211
DTEND;VALUE=DATE:20250212
DTSTAMP:20260422T102945
CREATED:20250102T204641Z
LAST-MODIFIED:20250102T204641Z
UID:3968-1739232000-1739318399@virginiagardens-fl.gov
SUMMARY:Regular Weekly Garbage Pick-up
DESCRIPTION:
URL:https://virginiagardens-fl.gov/event/regular-weekly-garbage-pick-up-155/
END:VEVENT
BEGIN:VEVENT
DTSTART;VALUE=DATE:20250214
DTEND;VALUE=DATE:20250215
DTSTAMP:20260422T102945
CREATED:20250102T204726Z
LAST-MODIFIED:20250102T204726Z
UID:3970-1739491200-1739577599@virginiagardens-fl.gov
SUMMARY:Regular Weekly Garbage Pick-up
DESCRIPTION:
URL:https://virginiagardens-fl.gov/event/regular-weekly-garbage-pick-up-156/
END:VEVENT
BEGIN:VEVENT
DTSTART;VALUE=DATE:20250218
DTEND;VALUE=DATE:20250219
DTSTAMP:20260422T102945
CREATED:20250102T204745Z
LAST-MODIFIED:20250102T204745Z
UID:3972-1739836800-1739923199@virginiagardens-fl.gov
SUMMARY:Regular Weekly Garbage Pick-up
DESCRIPTION:
URL:https://virginiagardens-fl.gov/event/regular-weekly-garbage-pick-up-157/
END:VEVENT
BEGIN:VEVENT
DTSTART;VALUE=DATE:20250218
DTEND;VALUE=DATE:20250219
DTSTAMP:20260422T102945
CREATED:20250102T205204Z
LAST-MODIFIED:20250102T205204Z
UID:3982-1739836800-1739923199@virginiagardens-fl.gov
SUMMARY:Regular Recycling Pick-up
DESCRIPTION:
URL:https://virginiagardens-fl.gov/event/regular-recycling-pick-up-5/
END:VEVENT
BEGIN:VEVENT
DTSTART;TZID=America/New_York:20250220T183000
DTEND;TZID=America/New_York:20250220T193000
DTSTAMP:20260422T102945
CREATED:20250220T220352Z
LAST-MODIFIED:20250220T220352Z
UID:4007-1740076200-1740079800@virginiagardens-fl.gov
SUMMARY:COUNCIL MEETING 2/20/2025
DESCRIPTION:
URL:https://virginiagardens-fl.gov/event/council-meeting-2-20-2025/
END:VEVENT
BEGIN:VEVENT
DTSTART;VALUE=DATE:20250221
DTEND;VALUE=DATE:20250222
DTSTAMP:20260422T102945
CREATED:20250102T204848Z
LAST-MODIFIED:20250102T204848Z
UID:3974-1740096000-1740182399@virginiagardens-fl.gov
SUMMARY:Regular Weekly Garbage Pick-up
DESCRIPTION:
URL:https://virginiagardens-fl.gov/event/regular-weekly-garbage-pick-up-158/
END:VEVENT
BEGIN:VEVENT
DTSTART;VALUE=DATE:20250225
DTEND;VALUE=DATE:20250226
DTSTAMP:20260422T102945
CREATED:20250102T204944Z
LAST-MODIFIED:20250102T204944Z
UID:3976-1740441600-1740527999@virginiagardens-fl.gov
SUMMARY:Regular Weekly Garbage Pick-up
DESCRIPTION:
URL:https://virginiagardens-fl.gov/event/regular-weekly-garbage-pick-up-159/
END:VEVENT
BEGIN:VEVENT
DTSTART;VALUE=DATE:20250228
DTEND;VALUE=DATE:20250301
DTSTAMP:20260422T102945
CREATED:20250102T205039Z
LAST-MODIFIED:20250102T205039Z
UID:3978-1740700800-1740787199@virginiagardens-fl.gov
SUMMARY:Regular Weekly Garbage Pick-up
DESCRIPTION:
URL:https://virginiagardens-fl.gov/event/regular-weekly-garbage-pick-up-160/
END:VEVENT
END:VCALENDAR